BEGIN:VCALENDAR
VERSION:2.0
PRODID:-//www.albemarlehopeline.org//NONSGML kigkonsult.se iCalcreator 2.30
 .10//
CALSCALE:GREGORIAN
METHOD:PUBLISH
UID:f0d66127-cdcc-4c27-ad30-a08aad2a7aec
X-WR-CALDESC:Come visit our Outreach Coordinator at Hopeline's table\, wher
 e we will have information about services available through our agency and
  would love to tell you more about our mission!\nThis is not a Hopeline-sp
 onsored event. For more information about the event\, please contact Camde
 n County Public Library.
X-WR-RELCALID:eaa23597fb00bd1143bb11c636fa38c4
X-WR-TIMEZONE:America/New_York
BEGIN:VTIMEZONE
TZID:America/New_York
BEGIN:STANDARD
TZNAME:EST
DTSTART:20251102T020000
TZOFFSETFROM:-0400
TZOFFSETTO:-0500
RDATE:20261101T020000
END:STANDARD
BEGIN:DAYLIGHT
TZNAME:EDT
DTSTART:20260308T020000
TZOFFSETFROM:-0500
TZOFFSETTO:-0400
RDATE:20270314T020000
END:DAYLIGHT
END:VTIMEZONE
BEGIN:VEVENT
UID:cdf9e283-e404-4af4-b7c4-1621af265485
DTSTAMP:20260421T084610Z
DESCRIPTION:Come visit our Outreach Coordinator at Hopeline's table\, where
  we will have information about services available through our agency and 
 would love to tell you more about our mission!\nThis is not a Hopeline-spo
 nsored event. For more information about the event\, please contact Camden
  County Public Library.
DTSTART;TZID=America/New_York:20260314T100000
DTEND;TZID=America/New_York:20260314T130000
LOCATION:Camden County Public Library\, 118 NC Hwy 343 N\, Camden\, NC 2792
 1 US
SUMMARY:Camden County Public Library Family Literacy Festival
END:VEVENT
END:VCALENDAR
