BEGIN:VCALENDAR
VERSION:2.0
PRODID:-//www.albemarlehopeline.org//NONSGML kigkonsult.se iCalcreator 2.30
 .10//
CALSCALE:GREGORIAN
METHOD:PUBLISH
UID:cfe76143-e812-4f75-bff7-749bd6d5c525
X-WR-CALDESC:Visit with Hopeline staff sharing information during Domestic 
 Violence Awareness Month!
X-WR-RELCALID:cc86cdbd5580ee90de5060cfe57a2d35
X-WR-TIMEZONE:America/New_York
BEGIN:VTIMEZONE
TZID:America/New_York
BEGIN:STANDARD
TZNAME:EST
DTSTART:20241103T020000
TZOFFSETFROM:-0400
TZOFFSETTO:-0500
RDATE:20251102T020000
RDATE:20261101T020000
END:STANDARD
BEGIN:DAYLIGHT
TZNAME:EDT
DTSTART:20250309T020000
TZOFFSETFROM:-0500
TZOFFSETTO:-0400
RDATE:20260308T020000
RDATE:20270314T020000
END:DAYLIGHT
END:VTIMEZONE
BEGIN:VEVENT
UID:34f5250e-4b3d-42f8-beda-98d050cd1772
DTSTAMP:20260421T102240Z
DESCRIPTION:Visit with Hopeline staff sharing information during Domestic V
 iolence Awareness Month!
DTSTART;TZID=America/New_York:20251024T100000
DTEND;TZID=America/New_York:20251024T120000
LOCATION:508 N Poindexter St.\, Elizabeth City\, NC 27909 US
SUMMARY:Hopeline Informational Table at My Corner Butcher
END:VEVENT
END:VCALENDAR
