BEGIN:VCALENDAR
VERSION:2.0
PRODID:-//www.albemarlehopeline.org//NONSGML kigkonsult.se iCalcreator 2.30
 .10//
CALSCALE:GREGORIAN
METHOD:PUBLISH
UID:1baaf2f9-4b75-48b9-805e-a5dbd76c228f
X-WR-CALDESC:Albemarle Hopeline en colaboración con la Iglesia Católica Hol
 y Family te invitan a participar y conocer más sobre los servicios disponi
 bles en la comunidad.\n\nAlbemarle Hopeline in collaboration with  Holy Fa
 mily Catholic Church invites you to celebrate Hispanic Heritage Month! Com
 e and learn about free resources from community agencies.\n
X-WR-RELCALID:3fe062e327f2345f30c926d2ef0c6ae0
X-WR-TIMEZONE:America/New_York
BEGIN:VTIMEZONE
TZID:America/New_York
BEGIN:STANDARD
TZNAME:EST
DTSTART:20241103T020000
TZOFFSETFROM:-0400
TZOFFSETTO:-0500
RDATE:20251102T020000
RDATE:20261101T020000
END:STANDARD
BEGIN:DAYLIGHT
TZNAME:EDT
DTSTART:20250309T020000
TZOFFSETFROM:-0500
TZOFFSETTO:-0400
RDATE:20260308T020000
RDATE:20270314T020000
END:DAYLIGHT
END:VTIMEZONE
BEGIN:VEVENT
UID:041d7cbb-f1c4-4a25-92d2-fb4ccb2fcbb3
DTSTAMP:20260421T101757Z
DESCRIPTION:Albemarle Hopeline en colaboración con la Iglesia Católica Holy
  Family te invitan a participar y conocer más sobre los servicios disponib
 les en la comunidad.\n\nAlbemarle Hopeline in collaboration with  Holy Fam
 ily Catholic Church invites you to celebrate Hispanic Heritage Month! Come
  and learn about free resources from community agencies.\n
DTSTART;TZID=America/New_York:20251012T130000
DTEND;TZID=America/New_York:20251012T160000
LOCATION:Holy Family Catholic Church\, 1453 N Road St.\, Elizabeth City\, A
 L 27909 US
SUMMARY:Tu Voz Cuenta - Hispanic Heritage Month
END:VEVENT
END:VCALENDAR
